BEGIN:VCALENDAR
VERSION:2.0
PRODID:-//Site de la commune de Saurat - ECPv4.6.14.1//NONSGML v1.0//EN
CALSCALE:GREGORIAN
METHOD:PUBLISH
X-WR-CALNAME:Site de la commune de Saurat
X-ORIGINAL-URL:https://www.mairie-saurat.fr
X-WR-CALDESC:Events for Site de la commune de Saurat
BEGIN:VEVENT
DTSTART;VALUE=DATE:20210709
DTEND;VALUE=DATE:20210710
DTSTAMP:20260423T165410
CREATED:20210604T140447Z
LAST-MODIFIED:20210703T192833Z
UID:7523-1625788800-1625875199@www.mairie-saurat.fr
SUMMARY:Concert du quatuor de saxophones Ad Lib
DESCRIPTION:\nVoir les détails \n
URL:https://www.mairie-saurat.fr/evenement/concert-du-quatuor-de-saxophones-ad-lib/
END:VEVENT
END:VCALENDAR