BEGIN:VCALENDAR
VERSION:2.0
PRODID:-//Site de la commune de Saurat - ECPv4.6.14.1//NONSGML v1.0//EN
CALSCALE:GREGORIAN
METHOD:PUBLISH
X-WR-CALNAME:Site de la commune de Saurat
X-ORIGINAL-URL:https://www.mairie-saurat.fr
X-WR-CALDESC:Events for Site de la commune de Saurat
BEGIN:VEVENT
DTSTART;VALUE=DATE:20210712
DTEND;VALUE=DATE:20210717
DTSTAMP:20260423T061521
CREATED:20210529T124830Z
LAST-MODIFIED:20210626T211736Z
UID:7442-1626048000-1626479999@www.mairie-saurat.fr
SUMMARY:Stage de tennis
DESCRIPTION:Voir le détail \n
URL:https://www.mairie-saurat.fr/evenement/stage-de-tennis-3/
END:VEVENT
END:VCALENDAR