BEGIN:VCALENDAR
VERSION:2.0
PRODID:-//Site de la commune de Saurat - ECPv4.6.14.1//NONSGML v1.0//EN
CALSCALE:GREGORIAN
METHOD:PUBLISH
X-WR-CALNAME:Site de la commune de Saurat
X-ORIGINAL-URL:https://www.mairie-saurat.fr
X-WR-CALDESC:Events for Site de la commune de Saurat
BEGIN:VEVENT
DTSTART;TZID=Europe/Paris:20210724T100000
DTEND;TZID=Europe/Paris:20210815T180000
DTSTAMP:20260422T112824
CREATED:20210605T114324Z
LAST-MODIFIED:20210608T134155Z
UID:7665-1627120800-1629050400@www.mairie-saurat.fr
SUMMARY:Exposition L'Épaisse poussière des choses
DESCRIPTION:Ouvert du 24 juillet au 15 août\n\ndu mercredi au dimanche de 16h à 19h\nles dimanches 25 juillet et 15 août de 10h à 18h\n\n \nVoir les détails\n \n
URL:https://www.mairie-saurat.fr/evenement/7665/
END:VEVENT
END:VCALENDAR