BEGIN:VCALENDAR
VERSION:2.0
PRODID:-//Site de la commune de Saurat - ECPv4.6.14.1//NONSGML v1.0//EN
CALSCALE:GREGORIAN
METHOD:PUBLISH
X-WR-CALNAME:Site de la commune de Saurat
X-ORIGINAL-URL:https://www.mairie-saurat.fr
X-WR-CALDESC:Events for Site de la commune de Saurat
BEGIN:VEVENT
DTSTART;TZID=Europe/Paris:20210906T203000
DTEND;TZID=Europe/Paris:20210906T223000
DTSTAMP:20260422T100558
CREATED:20210901T195120Z
LAST-MODIFIED:20210902T074018Z
UID:8264-1630960200-1630967400@www.mairie-saurat.fr
SUMMARY:Conseil municipal
DESCRIPTION:Convoc CM 06 09 21 \n
URL:https://www.mairie-saurat.fr/evenement/conseil-municipal-31/
LOCATION:le Pradal\, Saurat\, 09400\, France
END:VEVENT
END:VCALENDAR