BEGIN:VCALENDAR
VERSION:2.0
PRODID:-//Site de la commune de Saurat - ECPv4.6.14.1//NONSGML v1.0//EN
CALSCALE:GREGORIAN
METHOD:PUBLISH
X-WR-CALNAME:Site de la commune de Saurat
X-ORIGINAL-URL:https://www.mairie-saurat.fr
X-WR-CALDESC:Events for Site de la commune de Saurat
BEGIN:VEVENT
DTSTART;TZID=Europe/Paris:20211002T180000
DTEND;TZID=Europe/Paris:20211002T200000
DTSTAMP:20260422T082913
CREATED:20210928T101746Z
LAST-MODIFIED:20210928T101837Z
UID:8388-1633197600-1633204800@www.mairie-saurat.fr
SUMMARY:Réunion du conseil citoyen
DESCRIPTION:Ordre du jour \n• Accueil des participants et présentation de la séance par le comité de pilotage transitoire \n• Approbation du compte-rendu du 24 juillet \n• Élection des coprésidents \n• Création de commissions thématiques \n
URL:https://www.mairie-saurat.fr/evenement/reunion-du-conseil-citoyen-2/
LOCATION:D618\, Saurat\, 09400\, France
END:VEVENT
END:VCALENDAR