BEGIN:VCALENDAR
VERSION:2.0
PRODID:-//Site de la commune de Saurat - ECPv4.6.14.1//NONSGML v1.0//EN
CALSCALE:GREGORIAN
METHOD:PUBLISH
X-WR-CALNAME:Site de la commune de Saurat
X-ORIGINAL-URL:https://www.mairie-saurat.fr
X-WR-CALDESC:Events for Site de la commune de Saurat
BEGIN:VEVENT
DTSTART;VALUE=DATE:20211111
DTEND;VALUE=DATE:20211112
DTSTAMP:20260422T064257
CREATED:20211104T192410Z
LAST-MODIFIED:20211104T192410Z
UID:8617-1636588800-1636675199@www.mairie-saurat.fr
SUMMARY:Commémoration de l'armistice du 11 novembre 1918
DESCRIPTION:Un rassemblement avec dépôt de gerbe est organisé jeudi 11 novembre 2021 à 10 h devant le monument aux morts de Saurat place Conti. \nPour ceux qui le souhaitent les célébrations se poursuivront ensuite à Bédeilhac. \n
URL:https://www.mairie-saurat.fr/evenement/commemoration-de-larmistice-du-11-novembre-1918/
LOCATION:Saurat
END:VEVENT
END:VCALENDAR