BEGIN:VCALENDAR
VERSION:2.0
PRODID:-//Site de la commune de Saurat - ECPv4.6.14.1//NONSGML v1.0//EN
CALSCALE:GREGORIAN
METHOD:PUBLISH
X-WR-CALNAME:Site de la commune de Saurat
X-ORIGINAL-URL:https://www.mairie-saurat.fr
X-WR-CALDESC:Events for Site de la commune de Saurat
BEGIN:VEVENT
DTSTART;VALUE=DATE:20211127
DTEND;VALUE=DATE:20211128
DTSTAMP:20260422T064222
CREATED:20211109T181804Z
LAST-MODIFIED:20211109T181923Z
UID:8694-1637971200-1638057599@www.mairie-saurat.fr
SUMMARY:Téléthon
DESCRIPTION:https://www.mairie-saurat.fr/telethon-2021/ \n
URL:https://www.mairie-saurat.fr/evenement/telethon/
END:VEVENT
END:VCALENDAR