BEGIN:VCALENDAR
VERSION:2.0
PRODID:-//Site de la commune de Saurat - ECPv4.6.14.1//NONSGML v1.0//EN
CALSCALE:GREGORIAN
METHOD:PUBLISH
X-WR-CALNAME:Site de la commune de Saurat
X-ORIGINAL-URL:https://www.mairie-saurat.fr
X-WR-CALDESC:Events for Site de la commune de Saurat
BEGIN:VEVENT
DTSTART;TZID=Europe/Paris:20211219T093000
DTEND;TZID=Europe/Paris:20211219T123000
DTSTAMP:20260422T064126
CREATED:20211116T144159Z
LAST-MODIFIED:20211119T181154Z
UID:8721-1639906200-1639917000@www.mairie-saurat.fr
SUMMARY:Vente de gâteaux par le Saurathon
DESCRIPTION:Le Saurathon organise une vente de gâteaux au profit du Téléthon\, de 9h30 à 12h30\, place de la Rende. \n
URL:https://www.mairie-saurat.fr/evenement/8721/
LOCATION:Place de la Rende\, Saurat\, 09400\, France
END:VEVENT
BEGIN:VEVENT
DTSTART;TZID=Europe/Paris:20211219T150000
DTEND;TZID=Europe/Paris:20211219T170000
DTSTAMP:20260422T064126
CREATED:20210313T174549Z
LAST-MODIFIED:20211210T091027Z
UID:6881-1639926000-1639933200@www.mairie-saurat.fr
SUMMARY:Loto de Noël annulé
DESCRIPTION:Face à l’évolution de la pandémie du COVID \, le conseil d’administration de l’ADAVS a décidé d’annuler le loto. \n
URL:https://www.mairie-saurat.fr/evenement/loto-de-noel/
LOCATION:le Pradal\, Saurat\, 09400\, France
END:VEVENT
END:VCALENDAR