BEGIN:VCALENDAR
VERSION:2.0
PRODID:-//Site de la commune de Saurat - ECPv4.6.14.1//NONSGML v1.0//EN
CALSCALE:GREGORIAN
METHOD:PUBLISH
X-WR-CALNAME:Site de la commune de Saurat
X-ORIGINAL-URL:https://www.mairie-saurat.fr
X-WR-CALDESC:Events for Site de la commune de Saurat
BEGIN:VEVENT
DTSTART;TZID=Europe/Paris:20220430T100000
DTEND;TZID=Europe/Paris:20220430T143000
DTSTAMP:20260421T211235
CREATED:20220331T140436Z
LAST-MODIFIED:20220423T075950Z
UID:9186-1651312800-1651329000@www.mairie-saurat.fr
SUMMARY:Tour de France des vieilles voitures
DESCRIPTION:• Entre 13h30 et 14h30\, le tour de France auto 2022 (vieilles voitures) traversera Saurat par la route D 618. \n• À cette occasion\, l’association AZA de Pamiers fera une démonstration de vieilles voitures dans les rues de Saurat de 10h à 12h. \n→ https://www.mairie-saurat.fr/tour-de-france-des-vieilles-voitures/ \n
URL:https://www.mairie-saurat.fr/evenement/tour-de-france-des-vieilles-voitures/
END:VEVENT
END:VCALENDAR