BEGIN:VCALENDAR
VERSION:2.0
PRODID:-//Site de la commune de Saurat - ECPv4.6.14.1//NONSGML v1.0//EN
CALSCALE:GREGORIAN
METHOD:PUBLISH
X-WR-CALNAME:Site de la commune de Saurat
X-ORIGINAL-URL:https://www.mairie-saurat.fr
X-WR-CALDESC:Events for Site de la commune de Saurat
BEGIN:VEVENT
DTSTART;TZID=Europe/Paris:20220516T203000
DTEND;TZID=Europe/Paris:20220516T223000
DTSTAMP:20260421T211532
CREATED:20220511T072926Z
LAST-MODIFIED:20220511T072926Z
UID:9481-1652733000-1652740200@www.mairie-saurat.fr
SUMMARY:Conseil municipal
DESCRIPTION:Convocation CM 16 05 2022 \n
URL:https://www.mairie-saurat.fr/evenement/conseil-municipal-37/
END:VEVENT
END:VCALENDAR