BEGIN:VCALENDAR
VERSION:2.0
PRODID:-//Site de la commune de Saurat - ECPv4.6.14.1//NONSGML v1.0//EN
CALSCALE:GREGORIAN
METHOD:PUBLISH
X-WR-CALNAME:Site de la commune de Saurat
X-ORIGINAL-URL:https://www.mairie-saurat.fr
X-WR-CALDESC:Events for Site de la commune de Saurat
BEGIN:VEVENT
DTSTART;VALUE=DATE:20220605
DTEND;VALUE=DATE:20220606
DTSTAMP:20260421T193209
CREATED:20220331T123100Z
LAST-MODIFIED:20220520T181720Z
UID:9175-1654387200-1654473599@www.mairie-saurat.fr
SUMMARY:Puces sauratoises
DESCRIPTION: \n
URL:https://www.mairie-saurat.fr/evenement/puces-sauratoises-2/
END:VEVENT
END:VCALENDAR