BEGIN:VCALENDAR
VERSION:2.0
PRODID:-//Site de la commune de Saurat - ECPv4.6.14.1//NONSGML v1.0//EN
CALSCALE:GREGORIAN
METHOD:PUBLISH
X-WR-CALNAME:Site de la commune de Saurat
X-ORIGINAL-URL:https://www.mairie-saurat.fr
X-WR-CALDESC:Events for Site de la commune de Saurat
BEGIN:VEVENT
DTSTART;VALUE=DATE:20220609
DTEND;VALUE=DATE:20220610
DTSTAMP:20260421T193455
CREATED:20220331T123030Z
LAST-MODIFIED:20220331T124245Z
UID:9173-1654732800-1654819199@www.mairie-saurat.fr
SUMMARY:Fête de la pêche
DESCRIPTION:
URL:https://www.mairie-saurat.fr/evenement/fete-de-la-peche-3/
END:VEVENT
END:VCALENDAR