BEGIN:VCALENDAR
VERSION:2.0
PRODID:-//Site de la commune de Saurat - ECPv4.6.14.1//NONSGML v1.0//EN
CALSCALE:GREGORIAN
METHOD:PUBLISH
X-WR-CALNAME:Site de la commune de Saurat
X-ORIGINAL-URL:https://www.mairie-saurat.fr
X-WR-CALDESC:Events for Site de la commune de Saurat
BEGIN:VEVENT
DTSTART;VALUE=DATE:20220618
DTEND;VALUE=DATE:20220619
DTSTAMP:20260421T193403
CREATED:20220331T123709Z
LAST-MODIFIED:20220607T075705Z
UID:9179-1655510400-1655596799@www.mairie-saurat.fr
SUMMARY:Feu de la saint-Jean
DESCRIPTION:Pour préparer le feu de la saint-Jean\, nous avons besoin de bois. Si vous avez des vieilles planches\, palettes\, chevrons et autres à donner\, vous pouvez nous contacter et nous viendrons les récupérer. \n \n
URL:https://www.mairie-saurat.fr/evenement/feu-de-la-saint-jean-3/
END:VEVENT
END:VCALENDAR