BEGIN:VCALENDAR
VERSION:2.0
PRODID:-//Site de la commune de Saurat - ECPv4.6.14.1//NONSGML v1.0//EN
CALSCALE:GREGORIAN
METHOD:PUBLISH
X-WR-CALNAME:Site de la commune de Saurat
X-ORIGINAL-URL:https://www.mairie-saurat.fr
X-WR-CALDESC:Events for Site de la commune de Saurat
BEGIN:VEVENT
DTSTART;TZID=Europe/Paris:20220702T180000
DTEND;TZID=Europe/Paris:20220703T000000
DTSTAMP:20260421T180036
CREATED:20220628T164944Z
LAST-MODIFIED:20220628T164958Z
UID:9681-1656784800-1656806400@www.mairie-saurat.fr
SUMMARY:Dans'ailleurs
DESCRIPTION: \n
URL:https://www.mairie-saurat.fr/evenement/dansailleurs/
LOCATION:le Pradal\, Saurat\, 09400\, France
END:VEVENT
END:VCALENDAR