BEGIN:VCALENDAR
VERSION:2.0
PRODID:-//Site de la commune de Saurat - ECPv4.6.14.1//NONSGML v1.0//EN
CALSCALE:GREGORIAN
METHOD:PUBLISH
X-WR-CALNAME:Site de la commune de Saurat
X-ORIGINAL-URL:https://www.mairie-saurat.fr
X-WR-CALDESC:Events for Site de la commune de Saurat
BEGIN:VEVENT
DTSTART;VALUE=DATE:20220713
DTEND;VALUE=DATE:20220717
DTSTAMP:20260421T180338
CREATED:20220331T170144Z
LAST-MODIFIED:20220531T145430Z
UID:9230-1657670400-1658015999@www.mairie-saurat.fr
SUMMARY:Festen'Oc
DESCRIPTION:Voir le programme ici. \n \n
URL:https://www.mairie-saurat.fr/evenement/festenoc-4/
END:VEVENT
END:VCALENDAR