BEGIN:VCALENDAR
VERSION:2.0
PRODID:-//Site de la commune de Saurat - ECPv4.6.14.1//NONSGML v1.0//EN
CALSCALE:GREGORIAN
METHOD:PUBLISH
X-WR-CALNAME:Site de la commune de Saurat
X-ORIGINAL-URL:https://www.mairie-saurat.fr
X-WR-CALDESC:Events for Site de la commune de Saurat
BEGIN:VEVENT
DTSTART;TZID=Europe/Paris:20220718T193000
DTEND;TZID=Europe/Paris:20220718T223000
DTSTAMP:20260421T180414
CREATED:20220331T170349Z
LAST-MODIFIED:20220712T092635Z
UID:9232-1658172600-1658183400@www.mairie-saurat.fr
SUMMARY:Concert du duo festif Pipit Farlouse
DESCRIPTION: \n
URL:https://www.mairie-saurat.fr/evenement/concert-du-duo-latino-pipitfarlouze/
END:VEVENT
END:VCALENDAR