BEGIN:VCALENDAR
VERSION:2.0
PRODID:-//Site de la commune de Saurat - ECPv4.6.14.1//NONSGML v1.0//EN
CALSCALE:GREGORIAN
METHOD:PUBLISH
X-WR-CALNAME:Site de la commune de Saurat
X-ORIGINAL-URL:https://www.mairie-saurat.fr
X-WR-CALDESC:Events for Site de la commune de Saurat
BEGIN:VEVENT
DTSTART;TZID=Europe/Paris:20220728T080000
DTEND;TZID=Europe/Paris:20220730T170000
DTSTAMP:20260421T180236
CREATED:20220331T170625Z
LAST-MODIFIED:20220628T124738Z
UID:9238-1658995200-1659200400@www.mairie-saurat.fr
SUMMARY:Festival des contes
DESCRIPTION: \n
URL:https://www.mairie-saurat.fr/evenement/festival-des-contes-2/
END:VEVENT
END:VCALENDAR