BEGIN:VCALENDAR
VERSION:2.0
PRODID:-//Site de la commune de Saurat - ECPv4.6.14.1//NONSGML v1.0//EN
CALSCALE:GREGORIAN
METHOD:PUBLISH
X-WR-CALNAME:Site de la commune de Saurat
X-ORIGINAL-URL:https://www.mairie-saurat.fr
X-WR-CALDESC:Events for Site de la commune de Saurat
BEGIN:VEVENT
DTSTART;VALUE=DATE:20220731
DTEND;VALUE=DATE:20220801
DTSTAMP:20260421T180331
CREATED:20220331T170702Z
LAST-MODIFIED:20220726T122835Z
UID:9240-1659225600-1659311999@www.mairie-saurat.fr
SUMMARY:Marché artisanal
DESCRIPTION: \n
URL:https://www.mairie-saurat.fr/evenement/marche-artisanal-7/
LOCATION:Place de la Rende\, Saurat\, 09400\, France
END:VEVENT
END:VCALENDAR