BEGIN:VCALENDAR
VERSION:2.0
PRODID:-//Site de la commune de Saurat - ECPv4.6.14.1//NONSGML v1.0//EN
CALSCALE:GREGORIAN
METHOD:PUBLISH
X-WR-CALNAME:Site de la commune de Saurat
X-ORIGINAL-URL:https://www.mairie-saurat.fr
X-WR-CALDESC:Events for Site de la commune de Saurat
BEGIN:VEVENT
DTSTART;TZID=Europe/Paris:20220810T160000
DTEND;TZID=Europe/Paris:20220810T190000
DTSTAMP:20260421T162815
CREATED:20220707T154307Z
LAST-MODIFIED:20220729T140535Z
UID:9721-1660147200-1660158000@www.mairie-saurat.fr
SUMMARY:Deux spectacles tout public
DESCRIPTION:\n\n\n\nLe vieux loup à la peau qui pend \nCompagnie Farfeloup\nDuo accordéon diabolo-clownesque.\nSpectacle sans paroles\, mais tellement expressif\, qui chatouille furieusement les zygomatiques et nous émerveille grâce à un diabolo envoûté par les sons de l’accordéon. \n\n\nFidèle au poste\nCompagnie Chaloupé\nUn étrange énergumène accompagné de son fidèle poste de radio nous introduit et nous embarque dans les dédales de son processus d’écriture.\nQuand le reggaeton côtoie la philosophie\, quand les spots publicitaires chatouillent la géopolitique\, ou quand les nouvelles du monde se superposent aux musiques populaires\, tout devient matière à jouer ou source d’inspiration pour ce clown-poète échoué sur terre. \n\n\n\n\n \n
URL:https://www.mairie-saurat.fr/evenement/2-spectacles-tout-public/
END:VEVENT
END:VCALENDAR