BEGIN:VCALENDAR
VERSION:2.0
PRODID:-//Site de la commune de Saurat - ECPv4.6.14.1//NONSGML v1.0//EN
CALSCALE:GREGORIAN
METHOD:PUBLISH
X-WR-CALNAME:Site de la commune de Saurat
X-ORIGINAL-URL:https://www.mairie-saurat.fr
X-WR-CALDESC:Events for Site de la commune de Saurat
BEGIN:VEVENT
DTSTART;VALUE=DATE:20220821
DTEND;VALUE=DATE:20220822
DTSTAMP:20260421T162646
CREATED:20220331T171450Z
LAST-MODIFIED:20220805T200336Z
UID:9251-1661040000-1661126399@www.mairie-saurat.fr
SUMMARY:Marché artisanal
DESCRIPTION: \n
URL:https://www.mairie-saurat.fr/evenement/marche-artisanal-8/
LOCATION:Place de la Rende\, Saurat\, 09400\, France
END:VEVENT
BEGIN:VEVENT
DTSTART;TZID=Europe/Paris:20220821T180000
DTEND;TZID=Europe/Paris:20220821T190000
DTSTAMP:20260421T162646
CREATED:20220817T190628Z
LAST-MODIFIED:20220818T150858Z
UID:9878-1661104800-1661108400@www.mairie-saurat.fr
SUMMARY:Premier présentation des Fenestrelles du col d Port
DESCRIPTION:Cette première présentation des Fenestrelles aura lieu à 18 h\, dans le cadre du festival Les Essentiel.le.s de Boussenac. \n
URL:https://www.mairie-saurat.fr/evenement/le-festival-de-boussenac-au-col-d-port/
END:VEVENT
END:VCALENDAR