BEGIN:VCALENDAR
VERSION:2.0
PRODID:-//Site de la commune de Saurat - ECPv4.6.14.1//NONSGML v1.0//EN
CALSCALE:GREGORIAN
METHOD:PUBLISH
X-WR-CALNAME:Site de la commune de Saurat
X-ORIGINAL-URL:https://www.mairie-saurat.fr
X-WR-CALDESC:Events for Site de la commune de Saurat
BEGIN:VEVENT
DTSTART;TZID=Europe/Paris:20220910T170000
DTEND;TZID=Europe/Paris:20220910T190000
DTSTAMP:20260421T145821
CREATED:20220822T094852Z
LAST-MODIFIED:20220822T095120Z
UID:9921-1662829200-1662836400@www.mairie-saurat.fr
SUMMARY:Réunion du conseil citoyen
DESCRIPTION:Ordre du jour\n \n♦ De 17 heures à 17h45\, accueil des nouveaux participants pour une présentation du conseil citoyen et un échange de questions-réponses. \n♦ De 17h45 à 18 heures\, accueil des participants et établissement de l’ordre du jour définitif. Mise à jour des questions diverses. \n♦ À 18 heures\, début de l’assemblée plénière et proposition de l’ordre du jour définitif. Présentation des contributions des différentes commissions (Eau\, Jeunesse\, Environnement\, Vie collective\, Santé-social\, Patrimoine-bâti\, Mobilité\, Fonctionnement). Renouvellement des coprésidents. Questions diverses. \nApéritif offert…\nVous êtes les bienvenu(e)s ! \n
URL:https://www.mairie-saurat.fr/evenement/reunion-du-conseil-citoyen-4/
LOCATION:le Pradal\, Saurat\, 09400\, France
END:VEVENT
END:VCALENDAR