BEGIN:VCALENDAR
VERSION:2.0
PRODID:-//Site de la commune de Saurat - ECPv4.6.14.1//NONSGML v1.0//EN
CALSCALE:GREGORIAN
METHOD:PUBLISH
X-WR-CALNAME:Site de la commune de Saurat
X-ORIGINAL-URL:https://www.mairie-saurat.fr
X-WR-CALDESC:Events for Site de la commune de Saurat
BEGIN:VEVENT
DTSTART;VALUE=DATE:20220917
DTEND;VALUE=DATE:20220918
DTSTAMP:20260421T145332
CREATED:20220331T171630Z
LAST-MODIFIED:20220331T171645Z
UID:9253-1663372800-1663459199@www.mairie-saurat.fr
SUMMARY:World Clean Up Day
DESCRIPTION:
URL:https://www.mairie-saurat.fr/evenement/world-clean-up-day/
END:VEVENT
END:VCALENDAR