BEGIN:VCALENDAR
VERSION:2.0
PRODID:-//Site de la commune de Saurat - ECPv4.6.14.1//NONSGML v1.0//EN
CALSCALE:GREGORIAN
METHOD:PUBLISH
X-WR-CALNAME:Site de la commune de Saurat
X-ORIGINAL-URL:https://www.mairie-saurat.fr
X-WR-CALDESC:Events for Site de la commune de Saurat
BEGIN:VEVENT
DTSTART;TZID=Europe/Paris:20221021T090000
DTEND;TZID=Europe/Paris:20221021T160000
DTSTAMP:20260421T131546
CREATED:20221014T145531Z
LAST-MODIFIED:20221014T150550Z
UID:10155-1666342800-1666368000@www.mairie-saurat.fr
SUMMARY:Journée champignons
DESCRIPTION:plus d’infos → https://www.mairie-saurat.fr/journee-champignons/ \n
URL:https://www.mairie-saurat.fr/evenement/journee-champignons/
END:VEVENT
END:VCALENDAR