BEGIN:VCALENDAR
VERSION:2.0
PRODID:-//Site de la commune de Saurat - ECPv4.6.14.1//NONSGML v1.0//EN
CALSCALE:GREGORIAN
METHOD:PUBLISH
X-WR-CALNAME:Site de la commune de Saurat
X-ORIGINAL-URL:https://www.mairie-saurat.fr
X-WR-CALDESC:Events for Site de la commune de Saurat
BEGIN:VEVENT
DTSTART;TZID=Europe/Paris:20221022T180000
DTEND;TZID=Europe/Paris:20221022T193000
DTSTAMP:20260421T132841
CREATED:20220707T155120Z
LAST-MODIFIED:20221011T155752Z
UID:9728-1666461600-1666467000@www.mairie-saurat.fr
SUMMARY:Concert de La Clef des Champs
DESCRIPTION:L’orchestre de chambre La Clef des Champs\, qui a séduit le public l’année dernière\, revient à Saurat. \n  \n
URL:https://www.mairie-saurat.fr/evenement/concert-symphonique/
END:VEVENT
END:VCALENDAR