BEGIN:VCALENDAR
VERSION:2.0
PRODID:-//Site de la commune de Saurat - ECPv4.6.14.1//NONSGML v1.0//EN
CALSCALE:GREGORIAN
METHOD:PUBLISH
X-WR-CALNAME:Site de la commune de Saurat
X-ORIGINAL-URL:https://www.mairie-saurat.fr
X-WR-CALDESC:Events for Site de la commune de Saurat
BEGIN:VEVENT
DTSTART;TZID=Europe/Paris:20221219T203000
DTEND;TZID=Europe/Paris:20221219T223000
DTSTAMP:20260421T132805
CREATED:20221215T084140Z
LAST-MODIFIED:20221215T084539Z
UID:10285-1671481800-1671489000@www.mairie-saurat.fr
SUMMARY:Réunion du conseil municipal
DESCRIPTION:Convocation pour le conseil municipal du 19-12-22 \n
URL:https://www.mairie-saurat.fr/evenement/reunion-du-conseil-municipal/
LOCATION:le Pradal\, Saurat\, 09400\, France
END:VEVENT
END:VCALENDAR