BEGIN:VCALENDAR
VERSION:2.0
PRODID:-//Site de la commune de Saurat - ECPv4.6.14.1//NONSGML v1.0//EN
CALSCALE:GREGORIAN
METHOD:PUBLISH
X-WR-CALNAME:Site de la commune de Saurat
X-ORIGINAL-URL:https://www.mairie-saurat.fr
X-WR-CALDESC:Events for Site de la commune de Saurat
BEGIN:VEVENT
DTSTART;VALUE=DATE:20230130
DTEND;VALUE=DATE:20230131
DTSTAMP:20260421T145217
CREATED:20230109T084502Z
LAST-MODIFIED:20230125T205856Z
UID:10350-1675036800-1675123199@www.mairie-saurat.fr
SUMMARY:Réunion du conseil municipal
DESCRIPTION:Ordre du jour \n
URL:https://www.mairie-saurat.fr/evenement/conseil-municipal-42/
LOCATION:le Pradal\, Saurat\, 09400\, France
END:VEVENT
END:VCALENDAR