BEGIN:VCALENDAR
VERSION:2.0
PRODID:-//Site de la commune de Saurat - ECPv4.6.14.1//NONSGML v1.0//EN
CALSCALE:GREGORIAN
METHOD:PUBLISH
X-WR-CALNAME:Site de la commune de Saurat
X-ORIGINAL-URL:https://www.mairie-saurat.fr
X-WR-CALDESC:Events for Site de la commune de Saurat
BEGIN:VEVENT
DTSTART;TZID=Europe/Paris:20260131T113000
DTEND;TZID=Europe/Paris:20260131T130000
DTSTAMP:20260422T105437
CREATED:20260123T121731Z
LAST-MODIFIED:20260123T122510Z
UID:13927-1769859000-1769864400@www.mairie-saurat.fr
SUMMARY:Présentation des vœux de la municipalité
DESCRIPTION:Le maire\, les conseillers municipaux et le personnel municipal vous invitent à la présentation des vœux de la municipalité samedi 31 janvier à partir de 11h30\, Maïsou d’Amount. \nDe 10h à 11h45 vous pourrez rencontrer les associations sauratoises. \n
URL:https://www.mairie-saurat.fr/evenement/presentation-des-voeux-de-la-municipalite/
LOCATION:le Pradal\, Saurat\, 09400\, France
END:VEVENT
END:VCALENDAR