BEGIN:VCALENDAR
VERSION:2.0
PRODID:-//Site de la commune de Saurat - ECPv4.6.14.1//NONSGML v1.0//EN
CALSCALE:GREGORIAN
METHOD:PUBLISH
X-WR-CALNAME:Site de la commune de Saurat
X-ORIGINAL-URL:https://www.mairie-saurat.fr
X-WR-CALDESC:Events for Site de la commune de Saurat
BEGIN:VEVENT
DTSTART;VALUE=DATE:20260607
DTEND;VALUE=DATE:20260608
DTSTAMP:20260421T183924
CREATED:20260403T135612Z
LAST-MODIFIED:20260403T135612Z
UID:14126-1780790400-1780876799@www.mairie-saurat.fr
SUMMARY:Stage de Taï Chi
DESCRIPTION:
URL:https://www.mairie-saurat.fr/evenement/stage-de-tai-chi/
LOCATION:le Pradal\, Saurat\, 09400\, France
END:VEVENT
END:VCALENDAR