BEGIN:VCALENDAR
VERSION:2.0
PRODID:-//Site de la commune de Saurat - ECPv4.6.14.1//NONSGML v1.0//EN
CALSCALE:GREGORIAN
METHOD:PUBLISH
X-WR-CALNAME:Site de la commune de Saurat
X-ORIGINAL-URL:https://www.mairie-saurat.fr
X-WR-CALDESC:Events for Site de la commune de Saurat
BEGIN:VEVENT
DTSTART;TZID=Europe/Paris:20260704T080000
DTEND;TZID=Europe/Paris:20260704T170000
DTSTAMP:20260421T183647
CREATED:20260403T140138Z
LAST-MODIFIED:20260403T144052Z
UID:14136-1783152000-1783184400@www.mairie-saurat.fr
SUMMARY:Fête des voisins à Prat Communal
DESCRIPTION:
URL:https://www.mairie-saurat.fr/evenement/fete-des-voisins/
END:VEVENT
END:VCALENDAR