BEGIN:VCALENDAR
VERSION:2.0
PRODID:-//Site de la commune de Saurat - ECPv4.6.14.1//NONSGML v1.0//EN
CALSCALE:GREGORIAN
METHOD:PUBLISH
X-WR-CALNAME:Site de la commune de Saurat
X-ORIGINAL-URL:https://www.mairie-saurat.fr
X-WR-CALDESC:Events for Site de la commune de Saurat
BEGIN:VEVENT
DTSTART;VALUE=DATE:20260711
DTEND;VALUE=DATE:20260714
DTSTAMP:20260421T203016
CREATED:20260403T140246Z
LAST-MODIFIED:20260403T140246Z
UID:14140-1783728000-1783987199@www.mairie-saurat.fr
SUMMARY:Festen'Oc
DESCRIPTION:
URL:https://www.mairie-saurat.fr/evenement/festenoc-11/
LOCATION:Place de la Rende\, Saurat\, 09400\, France
END:VEVENT
END:VCALENDAR