BEGIN:VCALENDAR
VERSION:2.0
PRODID:-//Site de la commune de Saurat - ECPv4.6.14.1//NONSGML v1.0//EN
CALSCALE:GREGORIAN
METHOD:PUBLISH
X-WR-CALNAME:Site de la commune de Saurat
X-ORIGINAL-URL:https://www.mairie-saurat.fr
X-WR-CALDESC:Events for Site de la commune de Saurat
BEGIN:VEVENT
DTSTART;VALUE=DATE:20260717
DTEND;VALUE=DATE:20260817
DTSTAMP:20260421T215825
CREATED:20260403T141052Z
LAST-MODIFIED:20260403T141052Z
UID:14144-1784246400-1786924799@www.mairie-saurat.fr
SUMMARY:Exposition ” Apparitions ”
DESCRIPTION:
URL:https://www.mairie-saurat.fr/evenement/exposition-apparitions/
LOCATION:1 place Conti\, Saurat\, 09400
END:VEVENT
BEGIN:VEVENT
DTSTART;VALUE=DATE:20260808
DTEND;VALUE=DATE:20260810
DTSTAMP:20260421T215825
CREATED:20260403T142821Z
LAST-MODIFIED:20260403T142845Z
UID:14159-1786147200-1786319999@www.mairie-saurat.fr
SUMMARY:Fête du village au centre-bourg
DESCRIPTION:
URL:https://www.mairie-saurat.fr/evenement/fete-de-saurat-4/
LOCATION:Place de la Rende\, Saurat\, 09400\, France
END:VEVENT
END:VCALENDAR