BEGIN:VCALENDAR
VERSION:2.0
PRODID:-//Site de la commune de Saurat - ECPv4.6.14.1//NONSGML v1.0//EN
CALSCALE:GREGORIAN
METHOD:PUBLISH
X-WR-CALNAME:Site de la commune de Saurat
X-ORIGINAL-URL:https://www.mairie-saurat.fr
X-WR-CALDESC:Events for Site de la commune de Saurat
BEGIN:VEVENT
DTSTART;VALUE=DATE:20261018
DTEND;VALUE=DATE:20261019
DTSTAMP:20260422T005942
CREATED:20260403T143427Z
LAST-MODIFIED:20260403T143427Z
UID:14171-1792281600-1792367999@www.mairie-saurat.fr
SUMMARY:Fête de la pomme
DESCRIPTION:
URL:https://www.mairie-saurat.fr/evenement/fete-de-la-pomme-8/
LOCATION:Place de la Rende\, Saurat\, 09400\, France
END:VEVENT
END:VCALENDAR