BEGIN:VCALENDAR
VERSION:2.0
PRODID:-//Site de la commune de Saurat - ECPv4.6.14.1//NONSGML v1.0//EN
CALSCALE:GREGORIAN
METHOD:PUBLISH
X-WR-CALNAME:Site de la commune de Saurat
X-ORIGINAL-URL:https://www.mairie-saurat.fr
X-WR-CALDESC:Events for Site de la commune de Saurat
BEGIN:VEVENT
DTSTART;TZID=Europe/Paris:20210814T180000
DTEND;TZID=Europe/Paris:20210814T220000
DTSTAMP:20260422T112901
CREATED:20210604T181416Z
LAST-MODIFIED:20210810T100414Z
UID:7611-1628964000-1628978400@www.mairie-saurat.fr
SUMMARY:Concert par Les Tisserands
DESCRIPTION:\nVoir les détails \n
URL:https://www.mairie-saurat.fr/evenement/7611/
END:VEVENT
END:VCALENDAR