BEGIN:VCALENDAR
VERSION:2.0
PRODID:-//Site de la commune de Saurat - ECPv4.6.14.1//NONSGML v1.0//EN
CALSCALE:GREGORIAN
METHOD:PUBLISH
X-WR-CALNAME:Site de la commune de Saurat
X-ORIGINAL-URL:https://www.mairie-saurat.fr
X-WR-CALDESC:Events for Site de la commune de Saurat
BEGIN:VEVENT
DTSTART;TZID=Europe/Paris:20220508T100000
DTEND;TZID=Europe/Paris:20220508T113000
DTSTAMP:20260421T211715
CREATED:20220505T115854Z
LAST-MODIFIED:20220505T115916Z
UID:9419-1652004000-1652009400@www.mairie-saurat.fr
SUMMARY:Cérémonie du 8 mai
DESCRIPTION:Les anciens combattants et l’équipe municipale vous invitent à participer à la cérémonie du 8 mai 2022.  \nLe rassemblement est prévu devant le monument aux morts à 10h. Merci de venir nombreux honorer la mémoire des soldats morts pour la France.  \nCet hommage sera suivi d’une cérémonie religieuse à 10h30. \n
URL:https://www.mairie-saurat.fr/evenement/ceremonie-du-8-mai-2/
END:VEVENT
END:VCALENDAR