BEGIN:VCALENDAR
VERSION:2.0
PRODID:-//Site de la commune de Saurat - ECPv4.6.14.1//NONSGML v1.0//EN
CALSCALE:GREGORIAN
METHOD:PUBLISH
X-WR-CALNAME:Site de la commune de Saurat
X-ORIGINAL-URL:https://www.mairie-saurat.fr
X-WR-CALDESC:Events for Site de la commune de Saurat
BEGIN:VEVENT
DTSTART;VALUE=DATE:20191012
DTEND;VALUE=DATE:20191013
DTSTAMP:20260421T200130
CREATED:20190927T114707Z
LAST-MODIFIED:20190927T114707Z
UID:4414-1570838400-1570924799@www.mairie-saurat.fr
SUMMARY:Clôture de Festen'Oc
DESCRIPTION:
URL:https://www.mairie-saurat.fr/evenement/cloture-de-festenoc-3/
END:VEVENT
END:VCALENDAR