BEGIN:VCALENDAR
VERSION:2.0
PRODID:-//Site de la commune de Saurat - ECPv4.6.14.1//NONSGML v1.0//EN
CALSCALE:GREGORIAN
METHOD:PUBLISH
X-WR-CALNAME:Site de la commune de Saurat
X-ORIGINAL-URL:https://www.mairie-saurat.fr
X-WR-CALDESC:Events for Site de la commune de Saurat
BEGIN:VEVENT
DTSTART;VALUE=DATE:20261010
DTEND;VALUE=DATE:20261011
DTSTAMP:20260422T010110
CREATED:20260403T143217Z
LAST-MODIFIED:20260403T143217Z
UID:14167-1791590400-1791676799@www.mairie-saurat.fr
SUMMARY:Clôture de Festen'Oc
DESCRIPTION:
URL:https://www.mairie-saurat.fr/evenement/cloture-de-festenoc-6/
LOCATION:le Pradal\, Saurat\, 09400\, France
END:VEVENT
END:VCALENDAR