BEGIN:VCALENDAR
VERSION:2.0
PRODID:-//Site de la commune de Saurat - ECPv4.6.14.1//NONSGML v1.0//EN
CALSCALE:GREGORIAN
METHOD:PUBLISH
X-WR-CALNAME:Site de la commune de Saurat
X-ORIGINAL-URL:https://www.mairie-saurat.fr
X-WR-CALDESC:Events for Site de la commune de Saurat
BEGIN:VEVENT
DTSTART;TZID=Europe/Paris:20191019T190000
DTEND;TZID=Europe/Paris:20191019T220000
DTSTAMP:20260421T214214
CREATED:20191020T075805Z
LAST-MODIFIED:20191020T080237Z
UID:4466-1571511600-1571522400@www.mairie-saurat.fr
SUMMARY:Concert du Trio des copains
DESCRIPTION:Musique classique et traditionnelle\nDu baroque au XXe siècle\, tango\, valse\, biguine\, cumbia\nsamedi 19 octobre 2019 à 19h\nLes cabanes de l’Espinal à Saurat\n​Accès en voiture\, balisé depuis  la route du Soulheilhan\,\npuis 15 minutes de marche (bonnes chaussures et frontale)\n \n
URL:https://www.mairie-saurat.fr/evenement/concert-du-trio-des-copains/
END:VEVENT
END:VCALENDAR