BEGIN:VCALENDAR
VERSION:2.0
PRODID:-//Site de la commune de Saurat - ECPv4.6.14.1//NONSGML v1.0//EN
CALSCALE:GREGORIAN
METHOD:PUBLISH
X-WR-CALNAME:Site de la commune de Saurat
X-ORIGINAL-URL:https://www.mairie-saurat.fr
X-WR-CALDESC:Events for Site de la commune de Saurat
BEGIN:VEVENT
DTSTART;TZID=Europe/Paris:20211023T180000
DTEND;TZID=Europe/Paris:20211023T193000
DTSTAMP:20260422T083455
CREATED:20210604T192245Z
LAST-MODIFIED:20211012T135504Z
UID:7631-1635012000-1635017400@www.mairie-saurat.fr
SUMMARY:Concert symphonique à  l'église de Saurat
DESCRIPTION:De Rossini à Tchaïkovski\, par l’orchestre de  La Clef des Champs \nVoir les détails \n
URL:https://www.mairie-saurat.fr/evenement/concert-par-la-clef-des-champs/
END:VEVENT
END:VCALENDAR