BEGIN:VCALENDAR
VERSION:2.0
PRODID:-//Site de la commune de Saurat - ECPv4.6.14.1//NONSGML v1.0//EN
CALSCALE:GREGORIAN
METHOD:PUBLISH
X-WR-CALNAME:Site de la commune de Saurat
X-ORIGINAL-URL:https://www.mairie-saurat.fr
X-WR-CALDESC:Events for Site de la commune de Saurat
BEGIN:VEVENT
DTSTART;TZID=Europe/Paris:20181210T203000
DTEND;TZID=Europe/Paris:20181210T203000
DTSTAMP:20260423T002704
CREATED:20181107T135538Z
LAST-MODIFIED:20181208T182134Z
UID:3123-1544473800-1544473800@www.mairie-saurat.fr
SUMMARY:Conseil municipal
DESCRIPTION:ORDRE DU JOUR : \n 1)  Extinction de l’éclairage public une partie de la nuit \n2)  Réunion publique : PLU \n QUESTIONS DIVERSES : \n 1)  Fauchage \n 2)  Sentiers \n 3)  Information Communauté de Communes du Pays de Tarascon \n 4)  Cérémonie des voeux \n
URL:https://www.mairie-saurat.fr/evenement/conseil-municipal-2/
LOCATION:196 rue Albert Sans\, Saurat\, 09400\, France
ORGANIZER;CN="Mairie":MAILTO:mairie-saurat@wanadoo.fr
END:VEVENT
END:VCALENDAR