BEGIN:VCALENDAR
VERSION:2.0
PRODID:-//Site de la commune de Saurat - ECPv4.6.14.1//NONSGML v1.0//EN
CALSCALE:GREGORIAN
METHOD:PUBLISH
X-WR-CALNAME:Site de la commune de Saurat
X-ORIGINAL-URL:https://www.mairie-saurat.fr
X-WR-CALDESC:Events for Site de la commune de Saurat
BEGIN:VEVENT
DTSTART;TZID=Europe/Paris:20220131T203000
DTEND;TZID=Europe/Paris:20220131T223000
DTSTAMP:20260422T015953
CREATED:20220126T090643Z
LAST-MODIFIED:20220126T090643Z
UID:8930-1643661000-1643668200@www.mairie-saurat.fr
SUMMARY:Conseil municipal
DESCRIPTION:Convoc CM 31-01-22 \n
URL:https://www.mairie-saurat.fr/evenement/conseil-municipal-34/
LOCATION:le Pradal\, Saurat\, 09400\, France
END:VEVENT
END:VCALENDAR