BEGIN:VCALENDAR
VERSION:2.0
PRODID:-//Site de la commune de Saurat - ECPv4.6.14.1//NONSGML v1.0//EN
CALSCALE:GREGORIAN
METHOD:PUBLISH
X-WR-CALNAME:Site de la commune de Saurat
X-ORIGINAL-URL:https://www.mairie-saurat.fr
X-WR-CALDESC:Events for Site de la commune de Saurat
BEGIN:VEVENT
DTSTART;TZID=Europe/Paris:20220411T203000
DTEND;TZID=Europe/Paris:20220411T223000
DTSTAMP:20260421T225754
CREATED:20220406T165314Z
LAST-MODIFIED:20220407T144512Z
UID:9309-1649709000-1649716200@www.mairie-saurat.fr
SUMMARY:Conseil municipal
DESCRIPTION:Convoc CM 11-04-22 \n
URL:https://www.mairie-saurat.fr/evenement/conseil-municipal-36/
LOCATION:le Pradal\, Saurat\, 09400\, France
END:VEVENT
END:VCALENDAR