BEGIN:VCALENDAR
VERSION:2.0
PRODID:-//Site de la commune de Saurat - ECPv4.6.14.1//NONSGML v1.0//EN
CALSCALE:GREGORIAN
METHOD:PUBLISH
X-WR-CALNAME:Site de la commune de Saurat
X-ORIGINAL-URL:https://www.mairie-saurat.fr
X-WR-CALDESC:Events for Site de la commune de Saurat
BEGIN:VEVENT
DTSTART;TZID=Europe/Paris:20220416T090000
DTEND;TZID=Europe/Paris:20220416T110000
DTSTAMP:20260421T225718
CREATED:20220414T130903Z
LAST-MODIFIED:20220414T131053Z
UID:9342-1650099600-1650106800@www.mairie-saurat.fr
SUMMARY:Conseil municipal exceptionnel
DESCRIPTION:Convoc CM excep 16-04-22 \nBudget primitif invest 2022 JLR120422 \nBudget primitif fct 2022 JLR120422 \nBudget M14 CCAS 2022 \n
URL:https://www.mairie-saurat.fr/evenement/conseil-municipal-exceptionnel/
LOCATION:le Pradal\, Saurat\, 09400\, France
END:VEVENT
END:VCALENDAR