BEGIN:VCALENDAR
VERSION:2.0
PRODID:-//Site de la commune de Saurat - ECPv4.6.14.1//NONSGML v1.0//EN
CALSCALE:GREGORIAN
METHOD:PUBLISH
X-WR-CALNAME:Site de la commune de Saurat
X-ORIGINAL-URL:https://www.mairie-saurat.fr
X-WR-CALDESC:Events for Site de la commune de Saurat
BEGIN:VEVENT
DTSTART;TZID=Europe/Paris:20181112T203000
DTEND;TZID=Europe/Paris:20181112T220000
DTSTAMP:20260423T053824
CREATED:20181106T192609Z
LAST-MODIFIED:20181106T192922Z
UID:3120-1542054600-1542060000@www.mairie-saurat.fr
SUMMARY:Conseil municipal
DESCRIPTION:ORDRE DU JOUR : \n1)   Autorisation de signer le dossier d’assurance statutaire                \n2)   Autorisation d’acheter un véhicule utilitaire en remplacement du Kangoo  \n3)   Autorisation d’acheter la pose de boitiers prise dans la rue Albert Sans \n4)   Protection des données à caractère personnel (RGPD) \n5)   Extinction de l’éclairage public la nuit \n6)   Aide aux territoires sinistrés de l’Aude \n7)   Frais de scolarité pour enfants non sauratois \n8)   Correction du RIFSEEP (Régime indemnitaire tenant compte des fonctions\, des sujétions\, de l’expertise et de l’engagement professionnel) \n9)   Toit de l’église de Saurat \n10)  Autorisation de vendre l’ancienne épareuse \n11)  Proposition d’une évolution différenciée des prix du carburant entre les zones rurales et les autres \n  \n QUESTIONS DIVERSES : \n 1)  Compte-rendu du conseil d’école \n 2)  Prêt de la Maïsou d’Amount pour un spectacle de la compagnie Vent de Sable \n 3)  Mutualisation des moyens des communes composant la Communauté de Communes du Pays de Tarascon \n 4)  Aménagements acoustiques de la cantine \n 5)  Chantier international de Bénévoles \n 6)  Réserve communale de Sécurité Civile \n 7)  Extension aérienne BT 230/40V issu du P7 « Eychervidal » pour alimenter la parcelle A 279 \n
URL:https://www.mairie-saurat.fr/evenement/conseil-municipal/
LOCATION:196 rue Albert Sans\, Saurat\, 09400\, France
ORGANIZER;CN="Mairie":MAILTO:mairie-saurat@wanadoo.fr
END:VEVENT
END:VCALENDAR