BEGIN:VCALENDAR
VERSION:2.0
PRODID:-//Site de la commune de Saurat - ECPv4.6.14.1//NONSGML v1.0//EN
CALSCALE:GREGORIAN
METHOD:PUBLISH
X-WR-CALNAME:Site de la commune de Saurat
X-ORIGINAL-URL:https://www.mairie-saurat.fr
X-WR-CALDESC:Events for Site de la commune de Saurat
BEGIN:VEVENT
DTSTART;TZID=Europe/Paris:20200726T090000
DTEND;TZID=Europe/Paris:20200726T180000
DTSTAMP:20260422T091523
CREATED:20200708T101951Z
LAST-MODIFIED:20200719T200742Z
UID:5635-1595754000-1595786400@www.mairie-saurat.fr
SUMMARY:Marché Artisanal
DESCRIPTION:38e marché artisanal avec producteurs locaux\, artisans et métiers d’art. \nLes saveurs et le savoir faire de notre terroir. \nBuvette et petite restauration sur place. \nCe marché est organisé avec le respect des gestes barrière (distanciation\, masques et gel) et les mesures gouvernementales. \n
URL:https://www.mairie-saurat.fr/evenement/marche-artisanal-6/
LOCATION:Place de la Rende\, Saurat\, 09400\, France
ATTACH;FMTTYPE=image/jpeg:https://www.mairie-saurat.fr/wp-content/uploads/2020/07/marche-juillet-2020.jpg
END:VEVENT
END:VCALENDAR