BEGIN:VCALENDAR
VERSION:2.0
PRODID:-//Site de la commune de Saurat - ECPv4.6.14.1//NONSGML v1.0//EN
CALSCALE:GREGORIAN
METHOD:PUBLISH
X-WR-CALNAME:Site de la commune de Saurat
X-ORIGINAL-URL:https://www.mairie-saurat.fr
X-WR-CALDESC:Events for Site de la commune de Saurat
BEGIN:VEVENT
DTSTART;VALUE=DATE:20220418
DTEND;VALUE=DATE:20220419
DTSTAMP:20260421T225118
CREATED:20220331T122626Z
LAST-MODIFIED:20220331T123300Z
UID:9167-1650240000-1650326399@www.mairie-saurat.fr
SUMMARY:Omelette de Pâques
DESCRIPTION:
URL:https://www.mairie-saurat.fr/evenement/omelette-de-paques-2/
END:VEVENT
END:VCALENDAR