BEGIN:VCALENDAR
VERSION:2.0
PRODID:-//Site de la commune de Saurat - ECPv4.6.14.1//NONSGML v1.0//EN
CALSCALE:GREGORIAN
METHOD:PUBLISH
X-WR-CALNAME:Site de la commune de Saurat
X-ORIGINAL-URL:https://www.mairie-saurat.fr
X-WR-CALDESC:Events for Site de la commune de Saurat
BEGIN:VEVENT
DTSTART;TZID=Europe/Paris:20181216T120000
DTEND;TZID=Europe/Paris:20181216T170000
DTSTAMP:20260422T223353
CREATED:20181107T135719Z
LAST-MODIFIED:20181205T111300Z
UID:3125-1544961600-1544979600@www.mairie-saurat.fr
SUMMARY:Repas des ainés
DESCRIPTION:
URL:https://www.mairie-saurat.fr/evenement/repas-des-aines/
LOCATION:le Pradal\, Saurat\, 09400\, France
ATTACH;FMTTYPE=image/jpeg:https://www.mairie-saurat.fr/wp-content/uploads/2018/12/repas-des-aines.jpeg
ORGANIZER;CN="Mairie":MAILTO:mairie-saurat@wanadoo.fr
END:VEVENT
END:VCALENDAR