BEGIN:VCALENDAR
VERSION:2.0
PRODID:-//Site de la commune de Saurat - ECPv4.6.14.1//NONSGML v1.0//EN
CALSCALE:GREGORIAN
METHOD:PUBLISH
X-WR-CALNAME:Site de la commune de Saurat
X-ORIGINAL-URL:https://www.mairie-saurat.fr
X-WR-CALDESC:Events for Site de la commune de Saurat
BEGIN:VEVENT
DTSTART;TZID=Europe/Paris:20220317T100000
DTEND;TZID=Europe/Paris:20220317T113000
DTSTAMP:20260422T020107
CREATED:20220314T183634Z
LAST-MODIFIED:20220314T183707Z
UID:9072-1647511200-1647516600@www.mairie-saurat.fr
SUMMARY:Réunion de la commission de contrôle chargée de vérifier la régularité de la liste électorale
DESCRIPTION:
URL:https://www.mairie-saurat.fr/evenement/reunion-de-la-commission-chargee-de-la-liste-electorale/
LOCATION:196 rue Albert Sans\, Saurat\, 09400\, France
END:VEVENT
END:VCALENDAR