BEGIN:VCALENDAR
VERSION:2.0
PRODID:-//Site de la commune de Saurat - ECPv4.6.14.1//NONSGML v1.0//EN
CALSCALE:GREGORIAN
METHOD:PUBLISH
X-WR-CALNAME:Site de la commune de Saurat
X-ORIGINAL-URL:https://www.mairie-saurat.fr
X-WR-CALDESC:Events for Site de la commune de Saurat
BEGIN:VEVENT
DTSTART;TZID=Europe/Paris:20210923T180000
DTEND;TZID=Europe/Paris:20210923T193000
DTSTAMP:20260422T100430
CREATED:20210916T122554Z
LAST-MODIFIED:20210916T124633Z
UID:8349-1632420000-1632425400@www.mairie-saurat.fr
SUMMARY:Réunion publique sur le contrat local de santé
DESCRIPTION:Réunion publique d’informations et d’échanges pour présenter la mise en œuvre du contrat local de santé.\nPlus d’infos \n
URL:https://www.mairie-saurat.fr/evenement/reunion-publique-2/
LOCATION:le Pradal\, Saurat\, 09400\, France
END:VEVENT
END:VCALENDAR