BEGIN:VCALENDAR
VERSION:2.0
PRODID:-//Site de la commune de Saurat - ECPv4.6.14.1//NONSGML v1.0//EN
CALSCALE:GREGORIAN
METHOD:PUBLISH
X-WR-CALNAME:Site de la commune de Saurat
X-ORIGINAL-URL:https://www.mairie-saurat.fr
X-WR-CALDESC:Events for Site de la commune de Saurat
BEGIN:VEVENT
DTSTART;TZID=Europe/Paris:20190104T203000
DTEND;TZID=Europe/Paris:20190104T203000
DTSTAMP:20260422T205433
CREATED:20181211T072645Z
LAST-MODIFIED:20181219T165534Z
UID:3226-1546633800-1546633800@www.mairie-saurat.fr
SUMMARY:Réunion publique d'information sur le projet de révision du PLU
DESCRIPTION: \n
URL:https://www.mairie-saurat.fr/evenement/reunion-publique/
LOCATION:le Pradal\, Saurat\, 09400\, France
ORGANIZER;CN="Mairie":MAILTO:mairie-saurat@wanadoo.fr
END:VEVENT
END:VCALENDAR