BEGIN:VCALENDAR
VERSION:2.0
PRODID:-//Site de la commune de Saurat - ECPv4.6.14.1//NONSGML v1.0//EN
CALSCALE:GREGORIAN
METHOD:PUBLISH
X-WR-CALNAME:Site de la commune de Saurat
X-ORIGINAL-URL:https://www.mairie-saurat.fr
X-WR-CALDESC:Events for Site de la commune de Saurat
BEGIN:VEVENT
DTSTART;TZID=Europe/Paris:20220513T200000
DTEND;TZID=Europe/Paris:20220513T220000
DTSTAMP:20260421T211245
CREATED:20220505T121143Z
LAST-MODIFIED:20220511T134524Z
UID:9425-1652472000-1652479200@www.mairie-saurat.fr
SUMMARY:Super loto
DESCRIPTION: \n
URL:https://www.mairie-saurat.fr/evenement/super-loto/
LOCATION:le Pradal\, Saurat\, 09400\, France
END:VEVENT
END:VCALENDAR